BEGIN:VCALENDAR
VERSION:2.0
PRODID:-//Gerbera Research Group Inc - ECPv5.3.2.1//NONSGML v1.0//EN
CALSCALE:GREGORIAN
METHOD:PUBLISH
X-WR-CALNAME:Gerbera Research Group Inc
X-ORIGINAL-URL:https://gerberaresearch.com.au
X-WR-CALDESC:Events for Gerbera Research Group Inc
BEGIN:VTIMEZONE
TZID:UTC
BEGIN:STANDARD
TZOFFSETFROM:+0000
TZOFFSETTO:+0000
TZNAME:UTC
DTSTART:20210101T000000
END:STANDARD
END:VTIMEZONE
BEGIN:VEVENT
DTSTART;TZID=UTC:20210418T140000
DTEND;TZID=UTC:20210418T160000
DTSTAMP:20210225T222248
CREATED:20201122T065852Z
LAST-MODIFIED:20201122T065852Z
UID:214-1618754400-1618761600@gerberaresearch.com.au
SUMMARY:General Meeting
DESCRIPTION:
URL:https://gerberaresearch.com.au/event/general-meeting-6/
LOCATION:Hamersley Scout Hall\, Glendale Ave\, Hamersley\, WA\, 6022\, Australia
CATEGORIES:General Meeting
END:VEVENT
BEGIN:VEVENT
DTSTART;TZID=UTC:20210321T140000
DTEND;TZID=UTC:20210321T160000
DTSTAMP:20210225T222248
CREATED:20201122T065618Z
LAST-MODIFIED:20201122T065618Z
UID:212-1616335200-1616342400@gerberaresearch.com.au
SUMMARY:General Meeting
DESCRIPTION:
URL:https://gerberaresearch.com.au/event/general-meeting-5/
LOCATION:Hamersley Scout Hall\, Glendale Ave\, Hamersley\, WA\, 6022\, Australia
CATEGORIES:General Meeting
END:VEVENT
END:VCALENDAR