BEGIN:VCALENDAR
VERSION:2.0
PRODID:-//Gerbera Research Group Inc - ECPv5.3.2.1//NONSGML v1.0//EN
CALSCALE:GREGORIAN
METHOD:PUBLISH
X-WR-CALNAME:Gerbera Research Group Inc
X-ORIGINAL-URL:https://gerberaresearch.com.au
X-WR-CALDESC:Events for Gerbera Research Group Inc
BEGIN:VTIMEZONE
TZID:UTC
BEGIN:STANDARD
TZOFFSETFROM:+0000
TZOFFSETTO:+0000
TZNAME:UTC
DTSTART:20210101T000000
END:STANDARD
END:VTIMEZONE
BEGIN:VEVENT
DTSTART;TZID=UTC:20210501T100000
DTEND;TZID=UTC:20210501T150000
DTSTAMP:20210225T222052
CREATED:20201116T022935Z
LAST-MODIFIED:20201125T071929Z
UID:205-1619863200-1619881200@gerberaresearch.com.au
SUMMARY:Annual Show
DESCRIPTION:
URL:https://gerberaresearch.com.au/event/annual-show/
LOCATION:Hamersley Recreation Centre\, 20 Belvedere Road\, Hamersley\, Western Australia\, 6022\, Australia
CATEGORIES:Show
ATTACH;FMTTYPE=image/jpeg:https://gerberaresearch.com.au/wp-content/uploads/2020/11/MayShow2019-38-scaled-e1606288705940.jpg
END:VEVENT
END:VCALENDAR